BEGIN:VCALENDAR
VERSION:2.0
PRODID:-//ChamberMaster//Event Calendar 2.0//EN
METHOD:PUBLISH
X-PUBLISHED-TTL:P3D
REFRESH-INTERVAL:P3D
CALSCALE:GREGORIAN
BEGIN:VEVENT
DTSTART;VALUE=DATE:20170221
DTEND;VALUE=DATE:20170224
TRANSP:TRANSPARENT
X-MICROSOFT-CDO-ALLDAYEVENT:TRUE
SUMMARY:Juneau Fly-In
DESCRIPTION:http://www.fairbankschamber.org/juneau-fly-in
X-ALT-DESC;FMTTYPE=text/html:<a href="http://www.fairbankschamber.org/juneau-fly-in">http://www.fairbankschamber.org/juneau-fly-in</a>
LOCATION:Juneau\, Alaska Baranof Hotel
UID:e.106.17393
SEQUENCE:3
DTSTAMP:20260421T234056Z
URL:https://www.fairbankschamber.org/events/details/juneau-fly-in-17393
END:VEVENT

END:VCALENDAR
