BEGIN:VCALENDAR
VERSION:2.0
PRODID:-//ChamberMaster//Event Calendar 2.0//EN
METHOD:PUBLISH
X-PUBLISHED-TTL:P3D
REFRESH-INTERVAL:P3D
CALSCALE:GREGORIAN
BEGIN:VEVENT
DTSTART:20170409T190000Z
DTEND:20170410T020000Z
X-MICROSOFT-CDO-ALLDAYEVENT:FALSE
SUMMARY:Zip Line Extreme Winter Event -Open 3 weekends
DESCRIPTION:Northern Most Zip Line in the World - 925 Foot ZIP LINE - Great Winter Fun - Open for three weekends on Saturday and Sunday. Globe Creek Camp is a non-profit faith based youth camp and retreat center. This event is a fund-raiser to buy logs for two more camper log cabins. Toasty warm log Lodge open for snacks and hot drinks. Dress warm. Wear good snow boots to hike up trail to zip line tower. 250 lb. max. 40 inch minimum height.
X-ALT-DESC;FMTTYPE=text/html:Northern Most Zip Line in the World - 925 Foot ZIP LINE - Great Winter Fun - Open for three weekends on Saturday and Sunday. Globe Creek Camp is a non-profit faith based youth camp and retreat center. This event is a fund-raiser to buy logs for two more camper log cabins. Toasty warm log Lodge open for snacks and hot drinks. Dress warm. Wear good snow boots to hike up trail to zip line tower. 250 lb. max. 40 inch minimum height.&nbsp\;
LOCATION:37 Mile Elliott Highway. One hour North of Fairbanks. Take the New Steese Highway to Fox. Go straight through Fox on HWY 2 North. Look for sign on left of highway at mile marker 37.
UID:e.106.17742
SEQUENCE:3
DTSTAMP:20260421T203849Z
URL:https://www.fairbankschamber.org/events/details/zip-line-extreme-winter-event-open-3-weekends-04-09-2017-17742
END:VEVENT

END:VCALENDAR
