BEGIN:VCALENDAR
VERSION:2.0
PRODID:-//ChamberMaster//Event Calendar 2.0//EN
METHOD:PUBLISH
X-PUBLISHED-TTL:P3D
REFRESH-INTERVAL:P3D
CALSCALE:GREGORIAN
BEGIN:VEVENT
DTSTART:20170323T163000Z
DTEND:20170323T213000Z
X-MICROSOFT-CDO-ALLDAYEVENT:FALSE
SUMMARY:YPC Professional Development Half- Day
DESCRIPTION:Half Day of Professional Development Training for Local Mid-Level Professionals. The following presentations will be given: The Speed of Trust\; Creating Voice\, Impact and Influence\; Efficient Communication Strategies\, True Colors: Personality-based Skill Building\, Generational Management Styles\, and Presentation Skills. The 6 presentations will be presented 2 at a time\, followed by a panel lunch of the speakers providing career insights. Lunch will be provided. $25 per person or $20 per person when you buy 4 or more. Please register at http://www.fairbanksypc.com/event-registration.html
X-ALT-DESC;FMTTYPE=text/html:Half Day of Professional Development Training for Local Mid-Level Professionals. The following presentations will be given: The Speed of Trust\; Creating Voice\, Impact and Influence\; Efficient Communication Strategies\, True Colors: Personality-based Skill Building\, Generational Management Styles\, and Presentation Skills. The 6 presentations will be presented 2 at a time\, followed by a panel lunch of the speakers providing career insights. Lunch will be provided. $25 per person or $20 per person when you buy 4 or more. Please register at http://www.fairbanksypc.com/event-registration.html
LOCATION:Fairbanks Pipeline Training Center
UID:e.106.17725
SEQUENCE:3
DTSTAMP:20260421T215804Z
URL:https://www.fairbankschamber.org/events/details/ypc-professional-development-half-day-17725
END:VEVENT

END:VCALENDAR
