BEGIN:VCALENDAR
VERSION:2.0
PRODID:-//ChamberMaster//Event Calendar 2.0//EN
METHOD:PUBLISH
X-PUBLISHED-TTL:P3D
REFRESH-INTERVAL:P3D
CALSCALE:GREGORIAN
BEGIN:VEVENT
DTSTART:20170225T180000Z
DTEND:20170226T010000Z
X-MICROSOFT-CDO-ALLDAYEVENT:FALSE
SUMMARY:Writing in the Dark Retreat
DESCRIPTION:(PLEASE NOTE CHANGE OF DATE TO FEB. 25) Treat yourself to an all-day workshop with guest instructor\, author Jean Anderson. The retreat includes breakfast and lunch\, literary camaraderie\, and a day of stimulating discussion focused on the theme "Kindling the Fires: Creating Enduring Prose in a Cold Place." What magical combination of artistry and technical skill gives a specific piece of fiction or nonfiction its fire? This day-long workshop will focus on finding the fiery raw energy   and the sometimes well-hidden technical skill   in work from a few established writers\, and then applying what we learn to our own writing in on-site work sessions. Visit our website for more information or to register online.
X-ALT-DESC;FMTTYPE=text/html:(PLEASE NOTE CHANGE OF DATE TO FEB. 25) Treat yourself to an all-day workshop with guest instructor\, author Jean Anderson. The retreat includes breakfast and lunch\, literary camaraderie\, and a day of stimulating discussion focused on the theme &quot\;Kindling the Fires: Creating Enduring Prose in a Cold Place.&quot\; What magical combination of artistry and technical skill gives a specific piece of fiction or nonfiction its fire? This day-long workshop will focus on finding the fiery raw energy &mdash\; and the sometimes well-hidden technical skill &mdash\; in work from a few established writers\, and then applying what we learn to our own writing in on-site work sessions. Visit our website for more information or to register online.
LOCATION:Bear Gallery (3rd floor Alaska Centennial Center for the Arts)\, Pioneer Park\, 2300 Airport Way
UID:e.106.17695
SEQUENCE:3
DTSTAMP:20260421T234459Z
URL:https://www.fairbankschamber.org/events/details/writing-in-the-dark-retreat-17695
END:VEVENT

END:VCALENDAR
