BEGIN:VCALENDAR
VERSION:2.0
PRODID:-//ChamberMaster//Event Calendar 2.0//EN
METHOD:PUBLISH
X-PUBLISHED-TTL:P3D
REFRESH-INTERVAL:P3D
CALSCALE:GREGORIAN
BEGIN:VEVENT
DTSTART:20161103T210000Z
DTEND:20161104T000000Z
X-MICROSOFT-CDO-ALLDAYEVENT:FALSE
SUMMARY:Writing a Business Plan
DESCRIPTION:Learn about the elements of writing a business plan: how to establish budgets\, create and evaluate financials to measure your successes and failures\, identify the market and develop a marketing plan. Instructors  Paul Robinson & Scott Swingle
X-ALT-DESC;FMTTYPE=text/html:<p>Learn about the elements of writing a business plan: how to establish budgets\, create and evaluate financials to measure your successes and failures\, identify the market and develop a marketing plan. Instructors&mdash\; <em>Paul Robinson &amp\; Scott Swingle</em></p>\n
LOCATION:the Hub\, 410 Second Avenue
UID:e.106.13215
SEQUENCE:3
DTSTAMP:20260422T042223Z
URL:https://www.fairbankschamber.org/events/details/writing-a-business-plan-02-18-2016-13215
END:VEVENT

END:VCALENDAR
