BEGIN:VCALENDAR
VERSION:2.0
PRODID:-//ChamberMaster//Event Calendar 2.0//EN
METHOD:PUBLISH
X-PUBLISHED-TTL:P3D
REFRESH-INTERVAL:P3D
CALSCALE:GREGORIAN
BEGIN:VEVENT
DTSTART:20170720T070000Z
DTEND:20170722T200000Z
X-MICROSOFT-CDO-ALLDAYEVENT:FALSE
SUMMARY:World Eskimo-Indian Olympics
DESCRIPTION:The World Eskimo-Indian Olympic (WEIO) stages a four day - traditionally filled event at the Carlson Center in Fairbanks the 3rd Wednesday in July. WEIO gives people and participants a chance to see supreme feats of endurance and agility and the rare chance to experience a culture alongside those who live within it. WEIO is a time to share stories through dance and display parkas\, kuspuks\, mukluks\, moose hide dresses\, vests and jewelry at the Native Arts & Crafts fair. In additional there is a cultural Miss WEIO pageant to showcase talents and traditional knowledge. Events include: Native Regalia and Baby Regalia contest\, Knuckle Hop\, Blanket Toss\, High Kick\, Stick Pull and so much more
X-ALT-DESC;FMTTYPE=text/html:The World Eskimo-Indian Olympic (WEIO) stages a four day - traditionally filled event at the Carlson Center in Fairbanks the 3rd Wednesday in July. WEIO gives people and participants a chance to see supreme feats of endurance and agility and the rare chance to experience a culture alongside those who live within it. WEIO is a time to share stories through dance and display parkas\, kuspuks\, mukluks\, moose hide dresses\, vests and jewelry at the Native Arts &amp\; Crafts fair. In additional there is a cultural Miss WEIO pageant to showcase talents and traditional knowledge. Events include: Native Regalia and Baby Regalia contest\, Knuckle Hop\, Blanket Toss\, High Kick\, Stick Pull and so much more
LOCATION:Carlson Center
UID:e.106.20022
SEQUENCE:3
DTSTAMP:20260421T162822Z
URL:https://www.fairbankschamber.org/events/details/world-eskimo-indian-olympics-07-19-2017-20022
END:VEVENT

END:VCALENDAR
