BEGIN:VCALENDAR
VERSION:2.0
PRODID:-//ChamberMaster//Event Calendar 2.0//EN
METHOD:PUBLISH
X-PUBLISHED-TTL:P3D
REFRESH-INTERVAL:P3D
CALSCALE:GREGORIAN
BEGIN:VEVENT
DTSTART:20170416T183000Z
DTEND:20170416T220000Z
X-MICROSOFT-CDO-ALLDAYEVENT:FALSE
SUMMARY:Westmark Fairbanks Hotel Easter Buffet
DESCRIPTION:Great food\, Live Music\, Easter Bunny\, Scavenger hunt\, and a Easter Basket drawing. Reservations recommended 456-7722.
X-ALT-DESC;FMTTYPE=text/html:Great food\, Live Music\, Easter Bunny\, Scavenger hunt\, and a Easter Basket drawing. Reservations recommended 456-7722.
LOCATION:Westmark Fairbanks 813 Noble Street Fairbanks AK 99701
UID:e.106.18803
SEQUENCE:3
DTSTAMP:20260421T203700Z
URL:https://www.fairbankschamber.org/events/details/westmark-fairbanks-hotel-easter-buffet-18803
END:VEVENT

END:VCALENDAR
