BEGIN:VCALENDAR
VERSION:2.0
PRODID:-//ChamberMaster//Event Calendar 2.0//EN
METHOD:PUBLISH
X-PUBLISHED-TTL:P3D
REFRESH-INTERVAL:P3D
CALSCALE:GREGORIAN
BEGIN:VEVENT
DTSTART:20161022T180000Z
DTEND:20161022T210000Z
X-MICROSOFT-CDO-ALLDAYEVENT:FALSE
SUMMARY:West Valley Ski Swap
DESCRIPTION:Ski Swap 10:00 am- 1:00 pm Buy/sell good used skis\, boots. poles\, snowboards\, clothing & outdoor equipment for all ages and sizes!
X-ALT-DESC;FMTTYPE=text/html:Ski Swap 10:00 am- 1:00 pm Buy/sell good used skis\, boots. poles\, snowboards\, clothing &amp\; outdoor equipment for all ages and sizes!
LOCATION:West Valley High School Gym 3800 Geist Road
UID:e.106.17323
SEQUENCE:3
DTSTAMP:20260422T054833Z
URL:https://www.fairbankschamber.org/events/details/west-valley-ski-swap-17323
END:VEVENT

END:VCALENDAR
