BEGIN:VCALENDAR
VERSION:2.0
PRODID:-//ChamberMaster//Event Calendar 2.0//EN
METHOD:PUBLISH
X-PUBLISHED-TTL:P3D
REFRESH-INTERVAL:P3D
CALSCALE:GREGORIAN
BEGIN:VEVENT
DTSTART:20170921T020000Z
DTEND:20170921T050000Z
X-MICROSOFT-CDO-ALLDAYEVENT:FALSE
SUMMARY:Wednesday Dance Lessons! ~ Session 1
DESCRIPTION:6-Week Sessions @ Pioneer Park Dance Center All classes ~ no experience necessary! Wednesdays 6:00-6:55pm ~ Intro to Social Ballroom with Rulon Jensen THE intro to social dancing! 7:00-7:55pm ~ ChaCha I with Tiffany Lehnerd 8:00-8:55pm ~ East Coast Swing I with Lara Vazquez Preregister online at http://www.fairbanksballroom.org/session-1-dance-lessons-sep-18-oct-25-2017/
X-ALT-DESC;FMTTYPE=text/html:6-Week Sessions @ Pioneer Park Dance Center All classes ~ no experience necessary! Wednesdays 6:00-6:55pm ~ Intro to Social Ballroom with Rulon Jensen THE intro to social dancing! 7:00-7:55pm ~ ChaCha I with Tiffany Lehnerd 8:00-8:55pm ~ East Coast Swing I with Lara Vazquez Preregister online at http://www.fairbanksballroom.org/session-1-dance-lessons-sep-18-oct-25-2017/
LOCATION:Pioneer Park Dance Center
UID:e.106.20063
SEQUENCE:3
DTSTAMP:20260421T131229Z
URL:https://www.fairbankschamber.org/events/details/wednesday-dance-lessons-session-1-20063
END:VEVENT

END:VCALENDAR
