BEGIN:VCALENDAR
VERSION:2.0
PRODID:-//ChamberMaster//Event Calendar 2.0//EN
METHOD:PUBLISH
X-PUBLISHED-TTL:P3D
REFRESH-INTERVAL:P3D
CALSCALE:GREGORIAN
BEGIN:VEVENT
DTSTART:20170510T030000Z
DTEND:20170510T050000Z
X-MICROSOFT-CDO-ALLDAYEVENT:FALSE
SUMMARY:"We Breathe Again": A Documentary Film Screening
DESCRIPTION:Elite Documentary Film Screening to he held at Regal Cinemas: In a landscape as dramatic as its stories\, We Breathe Again intimately explores the lives of ?four Alaska Native people\, each confronting the impacts of ?intergenerational trauma and suicide.? ?A co-production of UAF\, Native Movement?\, and Crawl Walk Run?.
X-ALT-DESC;FMTTYPE=text/html:Elite Documentary Film Screening to he held at Regal Cinemas: In a landscape as dramatic as its stories\, We Breathe Again intimately explores the lives of ?four Alaska Native people\, each confronting the impacts of ?intergenerational trauma and suicide.? ?A co-production of UAF\, Native Movement?\, and Crawl Walk Run?.
LOCATION:Goldstream Stadium 16 & IMAX Theater\, 1855 Airport Way\, Fairbanks
UID:e.106.18820
SEQUENCE:3
DTSTAMP:20260421T191018Z
URL:https://www.fairbankschamber.org/events/details/we-breathe-again-a-documentary-film-screening-18820
END:VEVENT

END:VCALENDAR
