BEGIN:VCALENDAR
VERSION:2.0
PRODID:-//ChamberMaster//Event Calendar 2.0//EN
METHOD:PUBLISH
X-PUBLISHED-TTL:P3D
REFRESH-INTERVAL:P3D
CALSCALE:GREGORIAN
BEGIN:VEVENT
DTSTART;VALUE=DATE:20170219
DTEND;VALUE=DATE:20170220
TRANSP:TRANSPARENT
X-MICROSOFT-CDO-ALLDAYEVENT:TRUE
SUMMARY:Valentine's Special
DESCRIPTION:Package includes suite accomodations\, chocolate covered strawberries\, a bottle of champagne\, three course dinner for two and continental breakfast.
X-ALT-DESC;FMTTYPE=text/html:Package includes suite accomodations\, chocolate covered strawberries\, a bottle of champagne\, three course dinner for two and continental breakfast.&nbsp\;&nbsp\;&nbsp\;&nbsp\;&nbsp\;&nbsp\;&nbsp\;&nbsp\;&nbsp\;&nbsp\;&nbsp\;&nbsp\;&nbsp\;
LOCATION:Westmark Fairbanks Hotel & Conference Center 813 Noble Street Fairbanks\, Alaska 907-456-7722
UID:e.106.17705
SEQUENCE:3
DTSTAMP:20260421T234228Z
URL:https://www.fairbankschamber.org/events/details/valentine-s-special-02-19-2017-17705
END:VEVENT

END:VCALENDAR
