BEGIN:VCALENDAR
VERSION:2.0
PRODID:-//ChamberMaster//Event Calendar 2.0//EN
METHOD:PUBLISH
X-PUBLISHED-TTL:P3D
REFRESH-INTERVAL:P3D
CALSCALE:GREGORIAN
BEGIN:VEVENT
DTSTART:20161203T020000Z
DTEND:20161203T060000Z
X-MICROSOFT-CDO-ALLDAYEVENT:FALSE
SUMMARY:Up-cycled Art First Friday
DESCRIPTION:There will be an Up-cycled Art Sale at The Alaska Club (747 Old Richardson Hwy) this Friday\, December 2nd from 5 pm   9 pm. This First Friday event will feature artists who use up-cycled or repurposed materials in their work. This work includes holiday items\, wall art\, sculptures\, jewelry\, lamps\, and a newly invented magnetic tool/utensil holder. The up-cycled artwork is available for purchase and a percentage of the proceeds will benefit Green Star of Interior Alaska. Green Star is a local nonprofit that encourages and enables our community to reduce waste and increase recycling. Come check out these artists' work and take care of some holiday shopping while you're there! Additional information is available by calling The Alaska Club at 452-6801 or online at https://www.facebook.com/events/3768965826431 81.
X-ALT-DESC;FMTTYPE=text/html:There will be an Up-cycled Art Sale at The Alaska Club (747 Old Richardson Hwy) this Friday\, December 2nd from 5 pm &ndash\; 9 pm. This First Friday event will feature artists who use up-cycled or repurposed materials in their work. This work includes holiday items\, wall art\, sculptures\, jewelry\, lamps\, and a newly invented magnetic tool/utensil holder. The up-cycled artwork is available for purchase and a percentage of the proceeds will benefit Green Star of Interior Alaska. Green Star is a local nonprofit that encourages and enables our community to reduce waste and increase recycling. Come check out these artists&#39\; work and take care of some holiday shopping while you&rsquo\;re there! Additional information is available by calling The Alaska Club at 452-6801 or online at https://www.facebook.com/events/3768965826431 81.
LOCATION:The Alaska Club South
UID:e.106.17379
SEQUENCE:3
DTSTAMP:20260422T025631Z
URL:https://www.fairbankschamber.org/events/details/up-cycled-art-first-friday-17379
END:VEVENT

END:VCALENDAR
