BEGIN:VCALENDAR
VERSION:2.0
PRODID:-//ChamberMaster//Event Calendar 2.0//EN
METHOD:PUBLISH
X-PUBLISHED-TTL:P3D
REFRESH-INTERVAL:P3D
CALSCALE:GREGORIAN
BEGIN:VEVENT
DTSTART:20170520T160000Z
DTEND:20170520T190000Z
X-MICROSOFT-CDO-ALLDAYEVENT:FALSE
SUMMARY:UAF Really Free Market
DESCRIPTION:A Fairbanks community item and rummage swap. Drop off items: 8-10 a.m. Pick out items: 10-11 a.m.
X-ALT-DESC;FMTTYPE=text/html:A Fairbanks community item and rummage swap. Drop off items: 8-10 a.m. Pick out items: 10-11 a.m.
LOCATION:Lola Tilly Parking Lot\, UAF Campus
UID:e.106.18874
SEQUENCE:3
DTSTAMP:20260421T191059Z
URL:https://www.fairbankschamber.org/events/details/uaf-really-free-market-18874
END:VEVENT

END:VCALENDAR
