BEGIN:VCALENDAR
VERSION:2.0
PRODID:-//ChamberMaster//Event Calendar 2.0//EN
METHOD:PUBLISH
X-PUBLISHED-TTL:P3D
REFRESH-INTERVAL:P3D
CALSCALE:GREGORIAN
BEGIN:VEVENT
DTSTART:20161209T010000Z
DTEND:20161209T030000Z
X-MICROSOFT-CDO-ALLDAYEVENT:FALSE
SUMMARY:UAF CTC Winter Warm-up Registration Event
DESCRIPTION:CTC will pay your $40 UAF application fee at this event! Come in out of the cold and enjoy hot drinks and marshmallow roasting\, by Sugar Monkey\, while talking to program experts and advisors. This is a great time to learn about everything CTC has to offer\, including over 40 programs to choose from. Programs include 1 and 2 year certificates and degrees\, as well as shorter specialized trainings. Take advantage of this event and complete everything you need to do to register all at once with help! Prize drawings\, including two fitbits and three 1-credit tuition waivers\, will be held throughout the night! Browse the online course catalog: www.ctc.uaf.edu/courses Learn more about our programs: www.ctc.uaf.edu/programs
X-ALT-DESC;FMTTYPE=text/html:CTC will pay your $40 UAF application fee at this event! Come in out of the cold and enjoy hot drinks and marshmallow roasting\, by Sugar Monkey\, while talking to program experts and advisors. This is a great time to learn about everything CTC has to offer\, including over 40 programs to choose from. Programs include 1 and 2 year certificates and degrees\, as well as shorter specialized trainings. Take advantage of this event and complete everything you need to do to register all at once&mdash\;with help! Prize drawings\, including two fitbits and three 1-credit tuition waivers\, will be held throughout the night! Browse the online course catalog: www.ctc.uaf.edu/courses Learn more about our programs: www.ctc.uaf.edu/programs
LOCATION:UAF Community & Technical College 604 Barnette Street Fairbanks\, AK 99701
UID:e.106.17385
SEQUENCE:3
DTSTAMP:20260422T030715Z
URL:https://www.fairbankschamber.org/events/details/uaf-ctc-winter-warm-up-registration-event-17385
END:VEVENT

END:VCALENDAR
