BEGIN:VCALENDAR
VERSION:2.0
PRODID:-//ChamberMaster//Event Calendar 2.0//EN
METHOD:PUBLISH
X-PUBLISHED-TTL:P3D
REFRESH-INTERVAL:P3D
CALSCALE:GREGORIAN
BEGIN:VEVENT
DTSTART:20170420T000000Z
DTEND:20170420T020000Z
X-MICROSOFT-CDO-ALLDAYEVENT:FALSE
SUMMARY:UAF CTC Summer & Fall Registration Event
DESCRIPTION:Join UAF Community & Technical College for the Summer and Fall Registration and Information Event. At this event\, CTC will pay your $40 UAF application fee. Enjoy refreshments and prize drawings\, while you chat with program experts and advisors. This is a great time to learn about everything CTC has to offer\, including over 40 programs to choose from. Programs include 1 and 2 year certificates and degrees\, as well as shorter specialized trainings. Take advantage of this event and complete everything you need to do to register all at once with help! Prize drawings\, including two fitbits and three 1-credit tuition waivers\, will be held throughout the night! Learn more about our programs: www.ctc.uaf.edu/programs
X-ALT-DESC;FMTTYPE=text/html:Join UAF Community &amp\; Technical College for the Summer and Fall Registration and Information Event. At this event\, CTC will pay your $40 UAF application fee. Enjoy refreshments and prize drawings\, while you chat with program experts and advisors. This is a great time to learn about everything CTC has to offer\, including over 40 programs to choose from. Programs include 1 and 2 year certificates and degrees\, as well as shorter specialized trainings. Take advantage of this event and complete everything you need to do to register all at once&mdash\;with help! Prize drawings\, including two fitbits and three 1-credit tuition waivers\, will be held throughout the night! Learn more about our programs: www.ctc.uaf.edu/programs
LOCATION:UAF Community & Technical College 604 Barnette Street Fairbanks\, AK 99701
UID:e.106.18809
SEQUENCE:3
DTSTAMP:20260421T203408Z
URL:https://www.fairbankschamber.org/events/details/uaf-ctc-summer-fall-registration-event-18809
END:VEVENT

END:VCALENDAR
