BEGIN:VCALENDAR
VERSION:2.0
PRODID:-//ChamberMaster//Event Calendar 2.0//EN
METHOD:PUBLISH
X-PUBLISHED-TTL:P3D
REFRESH-INTERVAL:P3D
CALSCALE:GREGORIAN
BEGIN:VEVENT
DTSTART:20170323T193000Z
DTEND:20170323T210000Z
X-MICROSOFT-CDO-ALLDAYEVENT:FALSE
SUMMARY:UAF CTC Culinary - Borealis Bistro
DESCRIPTION:Experience delicious cuisine\, prepared by tomorrow's great chefs! Lunch service at The Borealis Bistro is officially open for business. Located at Hutchison Institute of Technology and operated by UAF Community and Technical College's Culinary Arts & Hospitality Program\, the Borealis Bistro was developed to create a 'real-world' training experience for CTC's culinary arts students. A Prix Fixe lunch is served from 11:30 a.m. to 1:00 p.m.\, Thursdays during spring semester. The menu changes weekly. Entrees are served with side dishes\, soup or salad and a beverage. A variety of appetizers\, dessert\, and espresso are also available. For March 23\, 2017\, the theme is " Italian Regional Inspired Cuisine ". Reservations are required in order to plan accordingly to provide a positive learning environment for students and to offer each person the best service. Please call 455-2902 or email kgaikows@alaska.edu for your reservations. Menus are subject to change. Follow us on Facebook to see full menus each week. Facebook.com/uafctc
X-ALT-DESC;FMTTYPE=text/html:Experience delicious cuisine\, prepared by tomorrow&#39\;s great chefs! Lunch service at The Borealis Bistro is officially open for business. Located at Hutchison Institute of Technology and operated by UAF Community and Technical College&#39\;s Culinary Arts &amp\; Hospitality Program\, the Borealis Bistro was developed to create a &#39\;real-world&#39\; training experience for CTC&rsquo\;s culinary arts students. A Prix Fixe lunch is served from 11:30 a.m. to 1:00 p.m.\, Thursdays during spring semester. The menu changes weekly. Entrees are served with side dishes\, soup or salad and a beverage. A variety of appetizers\, dessert\, and espresso are also available. For March 23\, 2017\, the theme is &quot\; Italian Regional Inspired Cuisine &quot\;. Reservations are required in order to plan accordingly to provide a positive learning environment for students and to offer each person the best service. Please call 455-2902 or email kgaikows@alaska.edu for your reservations. Menus are subject to change. Follow us on Facebook to see full menus each week. Facebook.com/uafctc
LOCATION:Hutchison Institute of Technology
UID:e.106.17644
SEQUENCE:3
DTSTAMP:20260421T221300Z
URL:https://www.fairbankschamber.org/events/details/uaf-ctc-culinary-borealis-bistro-03-23-2017-17644
END:VEVENT

END:VCALENDAR
