BEGIN:VCALENDAR
VERSION:2.0
PRODID:-//ChamberMaster//Event Calendar 2.0//EN
METHOD:PUBLISH
X-PUBLISHED-TTL:P3D
REFRESH-INTERVAL:P3D
CALSCALE:GREGORIAN
BEGIN:VEVENT
DTSTART:20160819T000000Z
DTEND:20160819T020000Z
X-MICROSOFT-CDO-ALLDAYEVENT:FALSE
SUMMARY:UAF Community & Technical College Registration Roundup
DESCRIPTION:Join UAF Community & Technical College for our Registration Roundup registration and information event! At this event\, CTC will pay your $40 UAF application fee. Enjoy refreshments and prize drawings\, while you chat with program experts and advisors. This is a great opportunity to learn about everything CTC has to offer\, including short\, specialized programs\, marketable 1 - 2 year degrees\, financial aid\, VA benefits and scholarships.
X-ALT-DESC;FMTTYPE=text/html:Join UAF Community &amp\; Technical College for our Registration Roundup registration and information event! At this event\, CTC will pay your $40 UAF application fee. Enjoy refreshments and prize drawings\, while you chat with program experts and advisors. This is a great opportunity to learn about everything CTC has to offer\, including short\, specialized programs\, marketable 1 - 2 year degrees\, financial aid\, VA benefits and scholarships.
LOCATION:UAF Community & Technical College 604 Barnette Street Fairbanks\, AK 99701
UID:e.106.16719
SEQUENCE:3
DTSTAMP:20260422T083844Z
URL:https://www.fairbankschamber.org/events/details/uaf-community-technical-college-registration-roundup-08-18-2016-16719
END:VEVENT

END:VCALENDAR
