BEGIN:VCALENDAR
VERSION:2.0
PRODID:-//ChamberMaster//Event Calendar 2.0//EN
METHOD:PUBLISH
X-PUBLISHED-TTL:P3D
REFRESH-INTERVAL:P3D
CALSCALE:GREGORIAN
BEGIN:VEVENT
DTSTART:20170818T000000Z
DTEND:20170818T020000Z
X-MICROSOFT-CDO-ALLDAYEVENT:FALSE
SUMMARY:UAF Community & Technical College Fall Registration Roundup
DESCRIPTION:CTC will pay your $40 UAF application fee for CTC programs at this event! Stop by and enjoy refreshments and prize drawings\, while you chat with program experts and advisors. In one evening\, you can...   Discover new careers and programs - chat with program experts   Get advising in financial aid\, courses\, and career paths   Apply to a UAF CTC degree program(fee waived)   Register for fall courses This is a great time to learn about everything UAF CTC has to offer\, including over 40 programs to choose from. Programs include 1 and 2 year certificates and degrees\, as well as shorter specialized trainings. Take advantage of this event and complete everything you need to do to register all at once with help! Prize drawings will be held throughout the night! Prizes include 1-credit tuition waivers\, a Kindle Fire Tablet\, $25 gift certificates to The Prospector and The Cookie Jar Restaurant and one-visit gold passes to The Alaska Club! Make sure to enter our 3-credit tuition waiver Facebook drawing!: www.facebook.com/uafctc/posts/1814461451912255:0 Learn more about our programs: www.ctc.uaf.edu/programs Browse the online course catalog: www.ctc.uaf.edu/courses
X-ALT-DESC;FMTTYPE=text/html:CTC will pay your $40 UAF application fee for CTC programs at this event! Stop by and enjoy refreshments and prize drawings\, while you chat with program experts and advisors. In one evening\, you can... &bull\; Discover new careers and programs - chat with program experts &bull\; Get advising in financial aid\, courses\, and career paths &bull\; Apply to a UAF CTC degree program(fee waived) &bull\; Register for fall courses This is a great time to learn about everything UAF CTC has to offer\, including over 40 programs to choose from. Programs include 1 and 2 year certificates and degrees\, as well as shorter specialized trainings. Take advantage of this event and complete everything you need to do to register all at once&mdash\;with help! Prize drawings will be held throughout the night! Prizes include 1-credit tuition waivers\, a Kindle Fire Tablet\, $25 gift certificates to The Prospector and The Cookie Jar Restaurant and one-visit gold passes to The Alaska Club! Make sure to enter our 3-credit tuition waiver Facebook drawing!: www.facebook.com/uafctc/posts/1814461451912255:0 Learn more about our programs: www.ctc.uaf.edu/programs Browse the online course catalog: www.ctc.uaf.edu/courses
LOCATION:UAF Community & Technical College 604 Barnette Street Fairbanks AK 99701
UID:e.106.20056
SEQUENCE:3
DTSTAMP:20260421T150857Z
URL:https://www.fairbankschamber.org/events/details/uaf-community-technical-college-fall-registration-roundup-20056
END:VEVENT

END:VCALENDAR
