BEGIN:VCALENDAR
VERSION:2.0
PRODID:-//ChamberMaster//Event Calendar 2.0//EN
METHOD:PUBLISH
X-PUBLISHED-TTL:P3D
REFRESH-INTERVAL:P3D
CALSCALE:GREGORIAN
BEGIN:VEVENT
DTSTART:20161022T170000Z
DTEND:20161023T010000Z
X-MICROSOFT-CDO-ALLDAYEVENT:FALSE
SUMMARY:UAF Arctic Innovation Competition 2016
DESCRIPTION:You are invited to watch Alaska's original idea competition! See for yourself as competitors pitch a wide variety of products and ideas at the UAF Arctic Innovation Competition. Lots of cash prizes and someone will take home $10\,000! Prizes and entertainment for the audience Join us at Wedgewood Resort on Saturday\, October 22nd. Final awards\, award ceremony and BP reception from 3-5pm. For more details and a complete schedule visit arcticinno.com
X-ALT-DESC;FMTTYPE=text/html:You are invited to watch Alaska&rsquo\;s original idea competition! See for yourself as competitors pitch a wide variety of products and ideas at the UAF Arctic Innovation Competition. Lots of cash prizes and someone will take home $10\,000! Prizes and entertainment for the audience Join us at Wedgewood Resort on Saturday\, October 22nd. Final awards\, award ceremony and BP reception from 3-5pm. For more details and a complete schedule visit arcticinno.com
LOCATION:Wedgewood Resort 212 Wedgewood Dr\, Fairbanks\, AK 99701
UID:e.106.16749
SEQUENCE:3
DTSTAMP:20260422T054748Z
URL:https://www.fairbankschamber.org/events/details/uaf-arctic-innovation-competition-2016-16749
END:VEVENT

END:VCALENDAR
