BEGIN:VCALENDAR
VERSION:2.0
PRODID:-//ChamberMaster//Event Calendar 2.0//EN
METHOD:PUBLISH
X-PUBLISHED-TTL:P3D
REFRESH-INTERVAL:P3D
CALSCALE:GREGORIAN
BEGIN:VEVENT
DTSTART;VALUE=DATE:20160923
DTEND;VALUE=DATE:20160924
TRANSP:TRANSPARENT
X-MICROSOFT-CDO-ALLDAYEVENT:TRUE
SUMMARY:UAF Arctic Innovation Competition 2016
DESCRIPTION:The best ideas come from everyday people solving everyday problems. Submit your bright idea for a chance to win cash prizes\, up to $10\,000! Ideas like the unique blueberry basting sheet\, any idea is possible. Free to enter. Deadline is Friday\, September 23 at 11:59pm. More info at arcticnno.com
X-ALT-DESC;FMTTYPE=text/html:The best ideas come from everyday people solving everyday problems. Submit your bright idea for a chance to win cash prizes\, up to $10\,000! Ideas like the unique blueberry basting sheet\, any idea is possible. Free to enter. Deadline is Friday\, September 23 at 11:59pm. More info at arcticnno.com
LOCATION:UAF Wood Center Ballroom
UID:e.106.16694
SEQUENCE:3
DTSTAMP:20260422T071730Z
URL:https://www.fairbankschamber.org/events/details/uaf-arctic-innovation-competition-2016-09-23-2016-16694
END:VEVENT

END:VCALENDAR
