BEGIN:VCALENDAR
VERSION:2.0
PRODID:-//ChamberMaster//Event Calendar 2.0//EN
METHOD:PUBLISH
X-PUBLISHED-TTL:P3D
REFRESH-INTERVAL:P3D
CALSCALE:GREGORIAN
BEGIN:VEVENT
DTSTART:20170519T020000Z
DTEND:20170519T050000Z
X-MICROSOFT-CDO-ALLDAYEVENT:FALSE
SUMMARY:Trivia Night
DESCRIPTION:Let's play a game\, shall we? Gather the 7 most versatile and randomly knowledgeable friends you can find and get ready to match wits in 8 rounds of competitive team trivia. Click here to register your Team (a table of up to 8 for $100): http://bit.ly/FBX-TRIVIA Each round of questions has a unique category and there's nothing telling what the categories will be! Like Celebrity Jeopardy!\, your team will choose a local non-profit and play on their behalf. When you emerge as victors\, your chosen organization will get a donation - it's literally a win/win. The game is held at the Event Center & Lounge (formerly the Hideout)\, and will start at 6:30pm. The doors will open at 6:00pm so that your team can get organized. The bar will be open (cash and credit accepted) and you can BYO Dinner - crockpots\, pizza\, picnic   bring whatever will fuel your team to victory! Questions? Email me - lauren@laurenhatty.com. Click here to register your team: http://bit.ly/FBX-TRIVIA
X-ALT-DESC;FMTTYPE=text/html:Let&#39\;s play a game\, shall we? Gather the 7 most versatile and randomly knowledgeable friends you can find and get ready to match wits in 8 rounds of competitive team trivia. Click here to register your Team (a table of up to 8 for $100): http://bit.ly/FBX-TRIVIA Each round of questions has a unique category and there&#39\;s nothing telling what the categories will be! Like Celebrity Jeopardy!\, your team will choose a local non-profit and play on their behalf. When you emerge as victors\, your chosen organization will get a donation - it&#39\;s literally a win/win. The game is held at the Event Center &amp\; Lounge (formerly the Hideout)\, and will start at 6:30pm. The doors will open at 6:00pm so that your team can get organized. The bar will be open (cash and credit accepted) and you can BYO Dinner - crockpots\, pizza\, picnic &ndash\; bring whatever will fuel your team to victory! Questions? Email me - lauren@laurenhatty.com. Click here to register your team: http://bit.ly/FBX-TRIVIA
LOCATION:Vivlamore Event Center - 1288 Sadler Way
UID:e.106.18827
SEQUENCE:3
DTSTAMP:20260421T190741Z
URL:https://www.fairbankschamber.org/events/details/trivia-night-05-18-2017-18827
END:VEVENT

END:VCALENDAR
