BEGIN:VCALENDAR
VERSION:2.0
PRODID:-//ChamberMaster//Event Calendar 2.0//EN
METHOD:PUBLISH
X-PUBLISHED-TTL:P3D
REFRESH-INTERVAL:P3D
CALSCALE:GREGORIAN
BEGIN:VEVENT
DTSTART:20170907T150000Z
DTEND:20170907T160000Z
X-MICROSOFT-CDO-ALLDAYEVENT:FALSE
SUMMARY:Transportation Infrastructure Committee Meeting
DESCRIPTION:
X-ALT-DESC;FMTTYPE=text/html:
LOCATION:Denny's Restaurant - 1929 Airport Way
UID:e.106.17009
SEQUENCE:3
DTSTAMP:20260421T130922Z
URL:https://www.fairbankschamber.org/events/details/transportation-infrastructure-committee-09-07-2017-17009
END:VEVENT

END:VCALENDAR
