BEGIN:VCALENDAR
VERSION:2.0
PRODID:-//ChamberMaster//Event Calendar 2.0//EN
METHOD:PUBLISH
X-PUBLISHED-TTL:P3D
REFRESH-INTERVAL:P3D
CALSCALE:GREGORIAN
BEGIN:VEVENT
DTSTART:20170617T013000Z
DTEND:20170617T033000Z
X-MICROSOFT-CDO-ALLDAYEVENT:FALSE
SUMMARY:Third Friday Art Show
DESCRIPTION:The Tanana Chiefs Conference will be hosting the largest Third Friday Art Show in town\, this Friday! The event will be held at the Chief Andrew Isaac Health Center this Friday\, June 16th from 5:30-7:30pm. Over 30 artists from across the state of Alaska will be showcasing their finest artwork. We will also have Alaska Native dancers opening the show\, followed by live music\, appetizers\, and beverages. The event is 100% free for participating artists and guests.
X-ALT-DESC;FMTTYPE=text/html:The Tanana Chiefs Conference will be hosting the largest Third Friday Art Show in town\, this Friday! The event will be held at the Chief Andrew Isaac Health Center this Friday\, June 16th from 5:30-7:30pm. Over 30 artists from across the state of Alaska will be showcasing their finest artwork. We will also have Alaska Native dancers opening the show\, followed by live music\, appetizers\, and beverages. The event is 100% free for participating artists and guests.
LOCATION:Chief Andrew Isaac Health Center 1717 W. Cowles Street\, Fairbanks\, AK 99701
UID:e.106.18956
SEQUENCE:3
DTSTAMP:20260421T174257Z
URL:https://www.fairbankschamber.org/events/details/third-friday-art-show-18956
END:VEVENT

END:VCALENDAR
