BEGIN:VCALENDAR
VERSION:2.0
PRODID:-//ChamberMaster//Event Calendar 2.0//EN
METHOD:PUBLISH
X-PUBLISHED-TTL:P3D
REFRESH-INTERVAL:P3D
CALSCALE:GREGORIAN
BEGIN:VEVENT
DTSTART:20161204T230000Z
DTEND:20161205T010000Z
X-MICROSOFT-CDO-ALLDAYEVENT:FALSE
SUMMARY:The Nutcracker - North Star Ballet Production
DESCRIPTION:Come see the enchanting production of the North Star Ballet's Nutcracker! Filled with a lively party scene and exciting fight between the Nutcracker and Mouse King\, get swept away amidst the swirling snowflakes and waltzing flowers as Clara and the Prince make a magical journey. The holidays are a perfect time to visit the spellbinding kingdom of the Sugar Plum Fairy and her Cavalier\, as you watch the Fairbanks tradition of the Nutcracker come to life. Winner of the Reader's Choice award for the Live Production/Show of 2015/16\, we hope you come celebrate this holiday tradition with us! Following the Saturday Matinee Performance\, children can visit the Land of Sweets and meet the dancers in person! Admission to the Land of Sweets is $5 per child\, with parents accompanying their children for free. Admission includes a Land of the Sweets Passport for their favorite characters to sign\, and a sweet treat to take home.
X-ALT-DESC;FMTTYPE=text/html:Come see the enchanting production of the North Star Ballet&#39\;s Nutcracker! Filled with a lively party scene and exciting fight between the Nutcracker and Mouse King\, get swept away amidst the swirling snowflakes and waltzing flowers as Clara and the Prince make a magical journey. The holidays are a perfect time to visit the spellbinding kingdom of the Sugar Plum Fairy and her Cavalier\, as you watch the Fairbanks tradition of the Nutcracker come to life. Winner of the Reader&#39\;s Choice award for the Live Production/Show of 2015/16\, we hope you come celebrate this holiday tradition with us! Following the Saturday Matinee Performance\, children can visit the Land of Sweets and meet the dancers in person! Admission to the Land of Sweets is $5 per child\, with parents accompanying their children for free. Admission includes a Land of the Sweets Passport for their favorite characters to sign\, and a sweet treat to take home.
LOCATION:Lathrop High School - Hering Auditorium 901 Lathrop Street\, Fairbanks AK 99701
UID:e.106.17310
SEQUENCE:3
DTSTAMP:20260422T030708Z
URL:https://www.fairbankschamber.org/events/details/the-nutcracker-north-star-ballet-production-12-04-2016-17310
END:VEVENT

END:VCALENDAR
