BEGIN:VCALENDAR
VERSION:2.0
PRODID:-//ChamberMaster//Event Calendar 2.0//EN
METHOD:PUBLISH
X-PUBLISHED-TTL:P3D
REFRESH-INTERVAL:P3D
CALSCALE:GREGORIAN
BEGIN:VEVENT
DTSTART:20170710T000000Z
DTEND:20170710T030000Z
X-MICROSOFT-CDO-ALLDAYEVENT:FALSE
SUMMARY:The Magic Flute
DESCRIPTION:Mozart's well loved opera\, sung in English. Produced by OperaFairbanks\, Gregory Buchalter\, Artistic Director.
X-ALT-DESC;FMTTYPE=text/html:Mozart&#39\;s well loved opera\, sung in English. Produced by OperaFairbanks\, Gregory Buchalter\, Artistic Director.
LOCATION:Hering Auditorium
UID:e.106.20018
SEQUENCE:3
DTSTAMP:20260421T161103Z
URL:https://www.fairbankschamber.org/events/details/the-magic-flute-07-09-2017-20018
END:VEVENT

END:VCALENDAR
