BEGIN:VCALENDAR
VERSION:2.0
PRODID:-//ChamberMaster//Event Calendar 2.0//EN
METHOD:PUBLISH
X-PUBLISHED-TTL:P3D
REFRESH-INTERVAL:P3D
CALSCALE:GREGORIAN
BEGIN:VEVENT
DTSTART:20171001T000000Z
DTEND:20171001T043000Z
X-MICROSOFT-CDO-ALLDAYEVENT:FALSE
SUMMARY:The HooDoo Choo Choo Train
DESCRIPTION:Hop aboard the third annual HooDoo Choo Choo for a scenic trip from Fairbanks to Nenana and back. Enjoy lite-bites from Lavelle's Bistro on board along with craft beers from HooDoo Brewery. Tickets are $199 per person and include appetizers and six half-pint beers. Additional brews will be available for purchase. Must be 21 or over to purchase a ticket.
X-ALT-DESC;FMTTYPE=text/html:Hop aboard the third annual HooDoo Choo Choo for a scenic trip from Fairbanks to Nenana and back. Enjoy lite-bites from Lavelle&rsquo\;s Bistro on board along with craft beers from HooDoo Brewery. Tickets are $199 per person and include appetizers and six half-pint beers. Additional brews will be available for purchase. Must be 21 or over to purchase a ticket.
LOCATION:Alaska Railroad Fairbanks Depot 1031 Alaska Railroad Depot Road Fairbanks\, AK 99701
UID:e.106.20108
SEQUENCE:3
DTSTAMP:20260421T132606Z
URL:https://www.fairbankschamber.org/events/details/the-hoodoo-choo-choo-train-09-30-2017-20108
END:VEVENT

END:VCALENDAR
