BEGIN:VCALENDAR
VERSION:2.0
PRODID:-//ChamberMaster//Event Calendar 2.0//EN
METHOD:PUBLISH
X-PUBLISHED-TTL:P3D
REFRESH-INTERVAL:P3D
CALSCALE:GREGORIAN
BEGIN:VEVENT
DTSTART:20170609T180000Z
DTEND:20170610T000000Z
X-MICROSOFT-CDO-ALLDAYEVENT:FALSE
SUMMARY:TEDxFairbanks
DESCRIPTION:You've seen the TED Talk videos and heard the TED Radio Hour on KUAC. You are invited to attend the TEDxFairbanks event "Building Capacity" for a day of discussion and dialogue on issues facing our community and the world.
X-ALT-DESC;FMTTYPE=text/html:You&#39\;ve seen the TED Talk videos and heard the TED Radio Hour on KUAC. You are invited to attend the TEDxFairbanks event &quot\;Building Capacity&quot\; for a day of discussion and dialogue on issues facing our community and the world.
LOCATION:DeWilde Theater at West Valley High School
UID:e.106.18780
SEQUENCE:3
DTSTAMP:20260421T174416Z
URL:https://www.fairbankschamber.org/events/details/tedxfairbanks-18780
END:VEVENT

END:VCALENDAR
