BEGIN:VCALENDAR
VERSION:2.0
PRODID:-//ChamberMaster//Event Calendar 2.0//EN
METHOD:PUBLISH
X-PUBLISHED-TTL:P3D
REFRESH-INTERVAL:P3D
CALSCALE:GREGORIAN
BEGIN:VEVENT
DTSTART:20161004T013000Z
DTEND:20161004T033000Z
X-MICROSOFT-CDO-ALLDAYEVENT:FALSE
SUMMARY:Taking Control of Your Finances
DESCRIPTION:Thinking about money and finances is oftentimes overwhelming or something we put off till a later time. This workshop will cover the basics so you can take back your control. Topics include how to achieve your financial goals\, budget basics\, student loans\, credit cards\, and credit scores. The workshop will also focus on strategies to set money aside for saving and investing and  the dangers of identity theft. - Kelly Ward\, CPA
X-ALT-DESC;FMTTYPE=text/html:Thinking about money and finances is oftentimes overwhelming or something we put off till a later time. This workshop will cover the basics so you can take back your control. Topics include how to achieve your financial goals\, budget basics\, student loans\, credit cards\, and credit scores. The workshop will also focus on strategies to set money aside for saving and investing and &nbsp\;the dangers of identity theft. - Kelly Ward\, CPA
LOCATION:Small Business Development Center 3750 Bonita Street
UID:e.106.17295
SEQUENCE:3
DTSTAMP:20260422T054148Z
URL:https://www.fairbankschamber.org/events/details/taking-control-of-your-finances-17295
END:VEVENT

END:VCALENDAR
