BEGIN:VCALENDAR
VERSION:2.0
PRODID:-//ChamberMaster//Event Calendar 2.0//EN
METHOD:PUBLISH
X-PUBLISHED-TTL:P3D
REFRESH-INTERVAL:P3D
CALSCALE:GREGORIAN
BEGIN:VEVENT
DTSTART:20170718T230000Z
DTEND:20170719T000000Z
X-MICROSOFT-CDO-ALLDAYEVENT:FALSE
SUMMARY:"Summer Afternoon": A Reading By FSAF Creative Writing Faculty
DESCRIPTION:Featuring Jeanne E. Clark\, Sarah Pape\, Brenda Miller\, Erin Coughlin Hollowell
X-ALT-DESC;FMTTYPE=text/html:Featuring Jeanne E. Clark\, Sarah Pape\, Brenda Miller\, Erin Coughlin Hollowell
LOCATION:Fairbanks Arts Association's Bear Gallery
UID:e.106.19968
SEQUENCE:3
DTSTAMP:20260421T161206Z
URL:https://www.fairbankschamber.org/events/details/summer-afternoon-a-reading-by-fsaf-creative-writing-faculty-19968
END:VEVENT

END:VCALENDAR
