BEGIN:VCALENDAR
VERSION:2.0
PRODID:-//ChamberMaster//Event Calendar 2.0//EN
METHOD:PUBLISH
X-PUBLISHED-TTL:P3D
REFRESH-INTERVAL:P3D
CALSCALE:GREGORIAN
BEGIN:VEVENT
DTSTART:20161013T210000Z
DTEND:20161014T000000Z
X-MICROSOFT-CDO-ALLDAYEVENT:FALSE
SUMMARY:Starting a Small Business
DESCRIPTION:This workshop covers the basic issues faced when starting a small business\, such as business licensing\, legal forms\, business record keeping\, hiring employees\, business planning\, access to financing\, identifying who the market is and developing a marketing plan.   Paul Robinson & Scott Swingle
X-ALT-DESC;FMTTYPE=text/html:<p>This workshop covers the basic issues faced when starting a small business\, such as business licensing\, legal forms\, business record keeping\, hiring employees\, business planning\, access to financing\, identifying who the market is and developing a marketing plan. &mdash\; <em>Paul Robinson &amp\; Scott Swingle</em></p>\n
LOCATION:UAF Community and Technical College 604 Barnette\, Room 409
UID:e.106.13214
SEQUENCE:3
DTSTAMP:20260422T054939Z
URL:https://www.fairbankschamber.org/events/details/starting-a-small-business-02-11-2016-13214
END:VEVENT

END:VCALENDAR
