BEGIN:VCALENDAR
VERSION:2.0
PRODID:-//ChamberMaster//Event Calendar 2.0//EN
METHOD:PUBLISH
X-PUBLISHED-TTL:P3D
REFRESH-INTERVAL:P3D
CALSCALE:GREGORIAN
BEGIN:VEVENT
DTSTART:20170318T043000Z
DTEND:20170318T070000Z
X-MICROSOFT-CDO-ALLDAYEVENT:FALSE
SUMMARY:St. Patty's Day Social Dance
DESCRIPTION:Find a friendly Leprechaun. Search for that pot o' gold. Have a jug of punch & share a tale. Irish or not\, everyone's invited to kick up their heels at our St. Patty's Day Social Dance. Get moving. Meet someone new. Be sure to wear your green or a playful Leprechaun may pinch you. No experience or partner necessary. Please bring clean\, non-marking shoes. $5 members\, students\, military $6 general public
X-ALT-DESC;FMTTYPE=text/html:Find a friendly Leprechaun. Search for that pot o&rsquo\; gold. Have a jug of punch &amp\; share a tale. Irish or not\, everyone&rsquo\;s invited to kick up their heels at our St. Patty&rsquo\;s Day Social Dance. Get moving. Meet someone new. Be sure to wear your green or a playful Leprechaun may pinch you. No experience or partner necessary. Please bring clean\, non-marking shoes. $5 members\, students\, military $6 general public
LOCATION:Pioneer Park Dance Center
UID:e.106.17640
SEQUENCE:3
DTSTAMP:20260421T220441Z
URL:https://www.fairbankschamber.org/events/details/st-patty-s-day-social-dance-17640
END:VEVENT

END:VCALENDAR
