BEGIN:VCALENDAR
VERSION:2.0
PRODID:-//ChamberMaster//Event Calendar 2.0//EN
METHOD:PUBLISH
X-PUBLISHED-TTL:P3D
REFRESH-INTERVAL:P3D
CALSCALE:GREGORIAN
BEGIN:VEVENT
DTSTART:20170723T030000Z
DTEND:20170723T040000Z
X-MICROSOFT-CDO-ALLDAYEVENT:FALSE
SUMMARY:Spanish Guitar Master MANUEL PEREZ—Free Performance!
DESCRIPTION:Visiting from Spain Guitar Master MANUEL PEREZ! Join us at 7 PM for a free Gypsy Night performance featuring Spanish Gypsy guitar\, dance\, and song! (Under 21 welcome with parent/guardian.) https://www.facebook.com/mastermanuelperez/
X-ALT-DESC;FMTTYPE=text/html:Visiting from Spain&mdash\;Guitar Master MANUEL PEREZ! Join us at 7 PM for a free Gypsy Night performance featuring Spanish Gypsy guitar\, dance\, and song! (Under 21 welcome with parent/guardian.) https://www.facebook.com/mastermanuelperez/
LOCATION:Hoarfrost Distilling 3501 Lathrop St (facing Van Horn Rd) Fairbanks\, Alaska 99701
UID:e.106.20033
SEQUENCE:3
DTSTAMP:20260421T161058Z
URL:https://www.fairbankschamber.org/events/details/spanish-guitar-master-manuel-perez-free-performance-20033
END:VEVENT

END:VCALENDAR
