BEGIN:VCALENDAR
VERSION:2.0
PRODID:-//ChamberMaster//Event Calendar 2.0//EN
METHOD:PUBLISH
X-PUBLISHED-TTL:P3D
REFRESH-INTERVAL:P3D
CALSCALE:GREGORIAN
BEGIN:VEVENT
DTSTART:20170221T023000Z
DTEND:20170221T033000Z
X-MICROSOFT-CDO-ALLDAYEVENT:FALSE
SUMMARY:Solar for the food
DESCRIPTION:With radiant heat from the sun\, there are plenty of applications to direct it toward better food growth. Whether using PV electric panels\, evacuated tubes\, parabolic dishes or just plain passive solar materials\, directing the sun with technology can if you a better yield. See some of the ways to capture this 'free' resource for your pantry! Taught by Art Nash of UAF CES and Tim Prather of University of Tennessee Extension
X-ALT-DESC;FMTTYPE=text/html:With radiant heat from the sun\, there are plenty of applications to direct it toward better food growth. Whether using PV electric panels\, evacuated tubes\, parabolic dishes or just plain passive solar materials\, directing the sun with technology can if you a better yield. See some of the ways to capture this &#39\;free&#39\; resource for your pantry! Taught by Art Nash of UAF CES and Tim Prather of University of Tennessee Extension
LOCATION:UAF Schaible Auditorium
UID:e.106.17692
SEQUENCE:3
DTSTAMP:20260421T234407Z
URL:https://www.fairbankschamber.org/events/details/solar-for-the-food-17692
END:VEVENT

END:VCALENDAR
