BEGIN:VCALENDAR
VERSION:2.0
PRODID:-//ChamberMaster//Event Calendar 2.0//EN
METHOD:PUBLISH
X-PUBLISHED-TTL:P3D
REFRESH-INTERVAL:P3D
CALSCALE:GREGORIAN
BEGIN:VEVENT
DTSTART:20170716T000000Z
DTEND:20170716T040000Z
X-MICROSOFT-CDO-ALLDAYEVENT:FALSE
SUMMARY:Shamwari Marimba 2
DESCRIPTION:Shamwari Marimba plays African Style Marimba Music. Everyone who hears it calls it "Happy Music"!
X-ALT-DESC;FMTTYPE=text/html:Shamwari Marimba plays African Style Marimba Music. Everyone who hears it calls it &quot\;Happy Music&quot\;!
LOCATION:Pioneer Park Square Dance Pavilion
UID:e.106.20028
SEQUENCE:3
DTSTAMP:20260421T160920Z
URL:https://www.fairbankschamber.org/events/details/shamwari-marimba-2-20028
END:VEVENT

END:VCALENDAR
