BEGIN:VCALENDAR
VERSION:2.0
PRODID:-//ChamberMaster//Event Calendar 2.0//EN
METHOD:PUBLISH
X-PUBLISHED-TTL:P3D
REFRESH-INTERVAL:P3D
CALSCALE:GREGORIAN
BEGIN:VEVENT
DTSTART:20170424T180000Z
DTEND:20170424T210000Z
X-MICROSOFT-CDO-ALLDAYEVENT:FALSE
SUMMARY:Sensory Friendly Monday
DESCRIPTION:Join us for our Sensory Friendly Monday!\n\n\n\n When: Monday\, April 24 Times: 10am-1pm Admission: $5 (FREE for members)\n\n\n\n What to Expect: Sensory Friendly Monday is an exclusive museum day for children with Autism Spectrum Disorders (ASD) and sensory processing differences to have a fun\, enjoyable and interactive learning experience in a comfortable and more intimate play environment! Prior to opening\, museum staff lowers the lights & sound and determines appropriate textures to put out in the art room. The Museum is normally closed on Mondays- but we will be open for this special event. Museum modifications: - Less crowded environment - Light and sound reduction - Extra visual safety signage - Designated quiet rooms\n\n\n\n FCM will provide the following: - ear defenders for overstimulating sounds (headphones) - weighted lap pads (blankets) - weighted vests - softening light filters for overstimulating lights - Museum Social Story https://media.wix.com/ugd/aa809a_03a73ac7f9a7460baff38c3d6856b9f0.pdf - Museum Map https://www.fairbankschildrensmuseum.com/museum-map - Scavenger Hunt https://media.wix.com/ugd/aa809a_84e44d830fda4e8f9aed657487011e60.pdf\n\n\n\n Questions? call Abigail Van Patter: 907-374-7063 or check out our website! fairbankschildrensmuseum.com
X-ALT-DESC;FMTTYPE=text/html:Join us for our Sensory Friendly Monday!<br />\n<br />\n<strong>&nbsp\;When:</strong> Monday\, April 24 Times: 10am-1pm Admission: $5 (FREE for members)<br />\n<br />\n&nbsp\;<strong>What to Expect:</strong> Sensory Friendly Monday is an exclusive museum day for children with Autism Spectrum Disorders (ASD) and sensory processing differences to have a fun\, enjoyable and interactive learning experience in a comfortable and more intimate play environment! Prior to opening\, museum staff lowers the lights &amp\; sound and determines appropriate textures to put out in the art room. The Museum is normally closed on Mondays- but we will be open for this special event. Museum modifications: - Less crowded environment - Light and sound reduction - Extra visual safety signage - Designated quiet rooms<br />\n<br />\n&nbsp\;FCM will provide the following: - ear defenders for overstimulating sounds (headphones) - weighted lap pads (blankets) - weighted vests - softening light filters for overstimulating lights - Museum Social Story https://media.wix.com/ugd/aa809a_03a73ac7f9a7460baff38c3d6856b9f0.pdf - Museum Map https://www.fairbankschildrensmuseum.com/museum-map - Scavenger Hunt https://media.wix.com/ugd/aa809a_84e44d830fda4e8f9aed657487011e60.pdf<br />\n<br />\n&nbsp\;<strong>Questions?</strong> call Abigail Van Patter: 907-374-7063 or check out our website! fairbankschildrensmuseum.com
LOCATION:Fairbanks Children's Museum 302 Cushman Street\, Suite 101 Fairbanks\, AK 99701
UID:e.106.18812
SEQUENCE:3
DTSTAMP:20260421T203204Z
URL:https://www.fairbankschamber.org/events/details/sensory-friendly-monday-18812
END:VEVENT

END:VCALENDAR
