BEGIN:VCALENDAR
VERSION:2.0
PRODID:-//ChamberMaster//Event Calendar 2.0//EN
METHOD:PUBLISH
X-PUBLISHED-TTL:P3D
REFRESH-INTERVAL:P3D
CALSCALE:GREGORIAN
BEGIN:VEVENT
DTSTART:20170408T200000Z
DTEND:20170408T230000Z
X-MICROSOFT-CDO-ALLDAYEVENT:FALSE
SUMMARY:Science Potpourri
DESCRIPTION:Every year\, the Chemistry Department in CNSM organizes a free science extravaganza for the entire community. It started out as a simple grassroots effort some 20 years ago\, but has grown every year as more and more partners across campus join in and offer engaging activities for everyone. Now there are science shows\, make-and-take-home activities\, demos and lots of fun for all ages. Some of the activities at this year's Science Potpourri will include make-and-take home slime\, the erosion table\, marine touch tank\, nitrogen ice cream. lava pouring\, radioactive rocks\, augmented reality sandbox\, and much more.
X-ALT-DESC;FMTTYPE=text/html:Every year\, the Chemistry Department in CNSM organizes a free science extravaganza for the entire community. It started out as a simple grassroots effort some 20 years ago\, but has grown every year as more and more partners across campus join in and offer engaging activities for everyone. Now there are science shows\, make-and-take-home activities\, demos and lots of fun for all ages. Some of the activities at this year&rsquo\;s Science Potpourri will include make-and-take home slime\, the erosion table\, marine touch tank\, nitrogen ice cream. lava pouring\, radioactive rocks\, augmented reality sandbox\, and much more.
LOCATION:UAF Reichardt Building
UID:e.106.17763
SEQUENCE:3
DTSTAMP:20260421T203153Z
URL:https://www.fairbankschamber.org/events/details/science-potpourri-17763
END:VEVENT

END:VCALENDAR
