BEGIN:VCALENDAR
VERSION:2.0
PRODID:-//ChamberMaster//Event Calendar 2.0//EN
METHOD:PUBLISH
X-PUBLISHED-TTL:P3D
REFRESH-INTERVAL:P3D
CALSCALE:GREGORIAN
BEGIN:VEVENT
DTSTART:20161218T030000Z
DTEND:20161218T110000Z
X-MICROSOFT-CDO-ALLDAYEVENT:FALSE
SUMMARY:Santacon Fairbanks
DESCRIPTION:Santacon Fairbanks is back! Event Alaska and Downtown Association of Fairbanks are bringing you a downtown pub crawl for all santas. The only requirement of the night is that you come dressed as your favorite holiday character. Santas will meet at Eastern Treats in the Co-Op Plaza(535 2nd Ave)at 6pm. Maps and scavenger hunts will be given out at Eastern Treats. Alyeska Pipeline Celebration of Lights starts at 8pm. It's the most fun you'll have in Fairbanks\, Alaska!
X-ALT-DESC;FMTTYPE=text/html:Santacon Fairbanks is back! Event Alaska and Downtown Association of Fairbanks are bringing you a downtown pub crawl for all santas. The only requirement of the night is that you come dressed as your favorite holiday character. Santas will meet at Eastern Treats in the Co-Op Plaza(535 2nd Ave)at 6pm. Maps and scavenger hunts will be given out at Eastern Treats. Alyeska Pipeline Celebration of Lights starts at 8pm. It&#39\;s the most fun you&#39\;ll have in Fairbanks\, Alaska!
LOCATION:Downtown Fairbanks\, Alaska
UID:e.106.17392
SEQUENCE:3
DTSTAMP:20260422T025753Z
URL:https://www.fairbankschamber.org/events/details/santacon-fairbanks-17392
END:VEVENT

END:VCALENDAR
