BEGIN:VCALENDAR
VERSION:2.0
PRODID:-//ChamberMaster//Event Calendar 2.0//EN
METHOD:PUBLISH
X-PUBLISHED-TTL:P3D
REFRESH-INTERVAL:P3D
CALSCALE:GREGORIAN
BEGIN:VEVENT
DTSTART:20170722T175000Z
DTEND:20170722T200000Z
X-MICROSOFT-CDO-ALLDAYEVENT:FALSE
SUMMARY:Run for Gold
DESCRIPTION:Run for Gold is a family fun one mile run leading the way for the Golden Days Parade. Each runner is eligible to win REAL GOLD valued at $200. You can register on line or at the Literacy Council of Alaska. To register on line go to https://www.runningclubnorth.org/product-category/events/ or stop in at the Literacy Council of Alaska at 517 Gaffney Rd. Questions call 456-6212.
X-ALT-DESC;FMTTYPE=text/html:Run for Gold is a family fun one mile run leading the way for the Golden Days Parade. Each runner is eligible to win REAL GOLD valued at $200. You can register on line or at the Literacy Council of Alaska. To register on line go to https://www.runningclubnorth.org/product-category/events/ or stop in at the Literacy Council of Alaska at 517 Gaffney Rd. Questions call 456-6212.
LOCATION:Golden Heart Utilities on 1st Ave.
UID:e.106.20021
SEQUENCE:3
DTSTAMP:20260421T160628Z
URL:https://www.fairbankschamber.org/events/details/run-for-gold-20021
END:VEVENT

END:VCALENDAR
