BEGIN:VCALENDAR
VERSION:2.0
PRODID:-//ChamberMaster//Event Calendar 2.0//EN
METHOD:PUBLISH
X-PUBLISHED-TTL:P3D
REFRESH-INTERVAL:P3D
CALSCALE:GREGORIAN
BEGIN:VEVENT
DTSTART:20170226T030000Z
DTEND:20170226T063000Z
X-MICROSOFT-CDO-ALLDAYEVENT:FALSE
SUMMARY:Roller Derby: Mardi Gras Masked Brawl
DESCRIPTION:Fairbanks Rollergirls present Mardi Gras Masked Brawl Catch Coldn' Heart Junior Derby vs Su Sirens\, followed by Fairbanks Rollergirls vs Boom Town Derby Dames. This is an all ages event! Purchase tickets at Interior Graphics\, Team Cutters\, UAF Wood Center or at http://fbxrgvbtdd.brownpapertickets.com/ See you Feb. 25th at Lathrop High School Gym!
X-ALT-DESC;FMTTYPE=text/html:Fairbanks Rollergirls present Mardi Gras Masked Brawl Catch Coldn&#39\; Heart Junior Derby vs Su Sirens\, followed by Fairbanks Rollergirls vs Boom Town Derby Dames. This is an all ages event! Purchase tickets at Interior Graphics\, Team Cutters\, UAF Wood Center or at http://fbxrgvbtdd.brownpapertickets.com/ See you Feb. 25th at Lathrop High School Gym!
LOCATION:Lathrop High School Gym\, 901 Airport Way\, Fairbanks\, AK 99701
UID:e.106.17689
SEQUENCE:3
DTSTAMP:20260421T234050Z
URL:https://www.fairbankschamber.org/events/details/roller-derby-mardi-gras-masked-brawl-17689
END:VEVENT

END:VCALENDAR
