BEGIN:VCALENDAR
VERSION:2.0
PRODID:-//ChamberMaster//Event Calendar 2.0//EN
METHOD:PUBLISH
X-PUBLISHED-TTL:P3D
REFRESH-INTERVAL:P3D
CALSCALE:GREGORIAN
BEGIN:VEVENT
DTSTART:20170408T030000Z
DTEND:20170408T050000Z
X-MICROSOFT-CDO-ALLDAYEVENT:FALSE
SUMMARY:Rhapsody in Red & White
DESCRIPTION:6th annual Wine tasting gala and fundraiser for the Fairbanks Symphony Orchestra. Features wine tasting prepared by Specialty Imports and Brown Jug. Evening includes Hors d'oeuevres\, live music and other opportunities to taste Premium Wines\, Port\, and Beer as well. Special "Mike's Cellar Raffle (only 100 raffle tickets sold) include prizes to start or build on your personal wine cellar!
X-ALT-DESC;FMTTYPE=text/html:6th annual Wine tasting gala and fundraiser for the Fairbanks Symphony Orchestra. Features wine tasting prepared by Specialty Imports and Brown Jug. Evening includes Hors d&#39\;oeuevres\, live music and other opportunities to taste Premium Wines\, Port\, and Beer as well. Special &quot\;Mike&#39\;s Cellar Raffle (only 100 raffle tickets sold) include prizes to start or build on your personal wine cellar!
LOCATION:Pike's Waterfront Lodge - Binkley Room
UID:e.106.17721
SEQUENCE:3
DTSTAMP:20260421T204733Z
URL:https://www.fairbankschamber.org/events/details/rhapsody-in-red-white-04-07-2017-17721
END:VEVENT

END:VCALENDAR
