BEGIN:VCALENDAR
VERSION:2.0
PRODID:-//ChamberMaster//Event Calendar 2.0//EN
METHOD:PUBLISH
X-PUBLISHED-TTL:P3D
REFRESH-INTERVAL:P3D
CALSCALE:GREGORIAN
BEGIN:VEVENT
DTSTART:20170804T013000Z
DTEND:20170804T023000Z
X-MICROSOFT-CDO-ALLDAYEVENT:FALSE
SUMMARY:Representative David Guttenberg Constituent Meeting
DESCRIPTION:Representative Guttenberg is back in Fairbanks for good and wants to hear from and speak to his constituents. He will be holding a constituent meeting on Thursday\, August 3rd\, 2017 from 5:30-6:30pm at the UAF Margaret Murie Building. He'll be speaking about healthcare\, improving broadband\, the budgets\, and anything else you would want to talk about. Please come and share your thoughts and concerns!
X-ALT-DESC;FMTTYPE=text/html:Representative Guttenberg is back in Fairbanks for good and wants to hear from and speak to his constituents. He will be holding a constituent meeting on Thursday\, August 3rd\, 2017 from 5:30-6:30pm at the UAF Margaret Murie Building. He&#39\;ll be speaking about healthcare\, improving broadband\, the budgets\, and anything else you would want to talk about. Please come and share your thoughts and concerns!
LOCATION:UAF Margaret Murie Auditorium
UID:e.106.20051
SEQUENCE:3
DTSTAMP:20260421T150138Z
URL:https://www.fairbankschamber.org/events/details/representative-david-guttenberg-constituent-meeting-20051
END:VEVENT

END:VCALENDAR
