BEGIN:VCALENDAR
VERSION:2.0
PRODID:-//ChamberMaster//Event Calendar 2.0//EN
METHOD:PUBLISH
X-PUBLISHED-TTL:P3D
REFRESH-INTERVAL:P3D
CALSCALE:GREGORIAN
BEGIN:VEVENT
DTSTART:20170721T210000Z
DTEND:20170721T230000Z
X-MICROSOFT-CDO-ALLDAYEVENT:FALSE
SUMMARY:Regent's Tea
DESCRIPTION:Tea Service  provided by Women's Igloo No. 8 and a fantastic array of both sweet and savory homemade goodies. There will also be a historical review\, the popular entertainment put on by the Fairbanks Igloos.
X-ALT-DESC;FMTTYPE=text/html:Tea Service&ndash\; provided by Women&rsquo\;s Igloo No. 8 and a fantastic array of both sweet and savory homemade goodies. There will also be a historical review\, the popular entertainment put on by the Fairbanks Igloos.
LOCATION:Pioneer Park Civic Center
UID:e.106.20024
SEQUENCE:3
DTSTAMP:20260420T044149Z
URL:https://www.fairbankschamber.org/events/details/regent-s-tea-20024
END:VEVENT

END:VCALENDAR
