BEGIN:VCALENDAR
VERSION:2.0
PRODID:-//ChamberMaster//Event Calendar 2.0//EN
METHOD:PUBLISH
X-PUBLISHED-TTL:P3D
REFRESH-INTERVAL:P3D
CALSCALE:GREGORIAN
BEGIN:VEVENT
DTSTART:20260404T023000Z
DTEND:20260404T040000Z
X-MICROSOFT-CDO-ALLDAYEVENT:FALSE
SUMMARY:Reading Meno in Cyberland: What Plato can tell us about knowledge in the age of AI
DESCRIPTION:As contemporary society becomes increasingly dependent on AI for answers to everyday questions\, it is worth taking a step back and considering why we value knowledge in the first place. Plato's 2400-year-old dialogues have some surprisingly useful answers. Reading Meno in Cyberland: What Plato can tell us about knowledge in the age of AI Date: Friday\, April 3\, 2026 Time: 6:30pm-8:00pm Location: Schaible Auditorium Zoom Option: https://alaska.zoom.us/j/88432159787 This event is hosted by the UAF Department of Philosophy Philosophy at UAF The UAF Department of Philosophy encourages students to ask big questions about ethics\, knowledge\, justice and the nature of reality while developing the critical thinking and communication skills valued across careers. Through engaging courses\, public lectures and close faculty mentorship\, philosophy students learn to analyze complex ideas\, engage respectfully with diverse perspectives and contribute thoughtfully to their communities. Support the Department of Philosophy by making a gift to the College of Liberal Arts. Your donation helps sustain philosophy courses\, student opportunities and events that keep thoughtful dialogue alive at UAF. https://engage.alaska.edu/donation-with-cart?fid=JRZBJ%2bAIQ3E%3d&fdesc=7p1DNJ6Mh74gAlSzLRgkTOX%2bkhqMV8aJg5el%2bUwX97o%3d #CLAis #DiscussingAI #MenoinCyberland #UAFPhilosophy #NanookNation
X-ALT-DESC;FMTTYPE=text/html:As contemporary society becomes increasingly dependent on AI for answers to everyday questions\, it is worth taking a step back and considering why we value knowledge in the first place. Plato&#39\;s 2400-year-old dialogues have some surprisingly useful answers. Reading Meno in Cyberland: What Plato can tell us about knowledge in the age of AI Date: Friday\, April 3\, 2026 Time: 6:30pm-8:00pm Location: Schaible Auditorium Zoom Option: https://alaska.zoom.us/j/88432159787 This event is hosted by the UAF Department of Philosophy Philosophy at UAF The UAF Department of Philosophy encourages students to ask big questions about ethics\, knowledge\, justice and the nature of reality while developing the critical thinking and communication skills valued across careers. Through engaging courses\, public lectures and close faculty mentorship\, philosophy students learn to analyze complex ideas\, engage respectfully with diverse perspectives and contribute thoughtfully to their communities. Support the Department of Philosophy by making a gift to the College of Liberal Arts. Your donation helps sustain philosophy courses\, student opportunities and events that keep thoughtful dialogue alive at UAF. https://engage.alaska.edu/donation-with-cart?fid=JRZBJ%2bAIQ3E%3d&amp\;fdesc=7p1DNJ6Mh74gAlSzLRgkTOX%2bkhqMV8aJg5el%2bUwX97o%3d #CLAis #DiscussingAI #MenoinCyberland #UAFPhilosophy #NanookNation
LOCATION:Schaible Auditorium
UID:e.106.33336
SEQUENCE:3
DTSTAMP:20260425T202722Z
URL:https://www.fairbankschamber.org/events/details/reading-meno-in-cyberland-what-plato-can-tell-us-about-knowledge-in-the-age-of-ai-33336
END:VEVENT

END:VCALENDAR
