BEGIN:VCALENDAR
VERSION:2.0
PRODID:-//ChamberMaster//Event Calendar 2.0//EN
METHOD:PUBLISH
X-PUBLISHED-TTL:P3D
REFRESH-INTERVAL:P3D
CALSCALE:GREGORIAN
BEGIN:VEVENT
DTSTART:20170723T000000Z
DTEND:20170723T010000Z
X-MICROSOFT-CDO-ALLDAYEVENT:FALSE
SUMMARY:Prospector Monument Dedication Ceremony
DESCRIPTION:The Pioneers and general public are welcome to the exciting unveiling and dedication of the new Prospector Monument by the Fairbanks Igloos of the Pioneers of Alaska\, that commemorates the historical significance of the prospectors who discovered gold and developed the Fairbanks Mining District. This event falls on the 115th anniversary of the discovery of gold here in Fairbanks.
X-ALT-DESC;FMTTYPE=text/html:The Pioneers and general public are welcome to the exciting unveiling and dedication of the new Prospector Monument by the Fairbanks Igloos of the Pioneers of Alaska\, that commemorates the historical significance of the prospectors who discovered gold and developed the Fairbanks Mining District. This event falls on the 115th anniversary of the discovery of gold here in Fairbanks.
LOCATION:Pioneer Park Mining Valley (near the Salmon Bake)
UID:e.106.20025
SEQUENCE:3
DTSTAMP:20260421T160930Z
URL:https://www.fairbankschamber.org/events/details/prospector-monument-dedication-ceremony-20025
END:VEVENT

END:VCALENDAR
