BEGIN:VCALENDAR
VERSION:2.0
PRODID:-//ChamberMaster//Event Calendar 2.0//EN
METHOD:PUBLISH
X-PUBLISHED-TTL:P3D
REFRESH-INTERVAL:P3D
CALSCALE:GREGORIAN
BEGIN:VEVENT
DTSTART:20170416T060000Z
DTEND:20170416T073000Z
X-MICROSOFT-CDO-ALLDAYEVENT:FALSE
SUMMARY:Pilates Workshop - North Star Ballet
DESCRIPTION:Discover and feel the benefits of the Pilates Method of Body Conditioning and get your questions answered by our comprehensively PMA -CPT trained instructor\, Ruth Merriman. This workshop includes an introductory mat class\, an introduction to the apparatus and a brief history of Pilates.
X-ALT-DESC;FMTTYPE=text/html:Discover and feel the benefits of the Pilates Method of Body Conditioning and get your questions answered by our comprehensively PMA&reg\;-CPT trained instructor\, Ruth Merriman. This workshop includes an introductory mat class\, an introduction to the apparatus and a brief history of Pilates.
LOCATION:North Star Ballet in the Tanana Valley Fairgrounds
UID:e.106.18785
SEQUENCE:3
DTSTAMP:20260421T203409Z
URL:https://www.fairbankschamber.org/events/details/pilates-workshop-north-star-ballet-18785
END:VEVENT

END:VCALENDAR
