BEGIN:VCALENDAR
VERSION:2.0
PRODID:-//ChamberMaster//Event Calendar 2.0//EN
METHOD:PUBLISH
X-PUBLISHED-TTL:P3D
REFRESH-INTERVAL:P3D
CALSCALE:GREGORIAN
BEGIN:VEVENT
DTSTART:20161005T200000Z
DTEND:20161005T213000Z
X-MICROSOFT-CDO-ALLDAYEVENT:FALSE
SUMMARY:Patent and Trademark Open Forum
DESCRIPTION:On Wednesday\, October 5th from 12:00-1:30 PM in the Wood Center Ballroom\, Director of the West Coast Regional USPTO\, John Cabeca and Attorney Advisor for Trademark Educational Outreach\, Jason Lott will hold an open forum. Topics of discussion will relate to patents\, trademarks\, copyrights\, trade secrets and why innovators and entrepreneurs should consider protecting their IP and resources available from the USPTO. A question and answer session will follow the short presentation. This is a brown bag lunch event. For parking information please call Melissa McCumby at 474-2605 or email uaf-oipc@alaska.edu. These events are co-sponsored by the Alaska Patent & Trademark Resource Center (APTRC) and the Office of Intellectual Property and Commercialization (OIPC) at the University of Alaska Fairbanks.
X-ALT-DESC;FMTTYPE=text/html:On Wednesday\, October 5th from 12:00-1:30 PM in the Wood Center Ballroom\, Director of the West Coast Regional USPTO\, John Cabeca and Attorney Advisor for Trademark Educational Outreach\, Jason Lott will hold an open forum. Topics of discussion will relate to patents\, trademarks\, copyrights\, trade secrets and why innovators and entrepreneurs should consider protecting their IP and resources available from the USPTO. A question and answer session will follow the short presentation. This is a brown bag lunch event. For parking information please call Melissa McCumby at 474-2605 or email uaf-oipc@alaska.edu. These events are co-sponsored by the Alaska Patent &amp\; Trademark Resource Center (APTRC) and the Office of Intellectual Property and Commercialization (OIPC) at the University of Alaska Fairbanks.
LOCATION:UAF Wood Center Ballroom\, 505 South Chandalar Drive\, Fairbanks\, AK
UID:e.106.17281
SEQUENCE:3
DTSTAMP:20260422T054349Z
URL:https://www.fairbankschamber.org/events/details/patent-and-trademark-open-forum-17281
END:VEVENT

END:VCALENDAR
