BEGIN:VCALENDAR
VERSION:2.0
PRODID:-//ChamberMaster//Event Calendar 2.0//EN
METHOD:PUBLISH
X-PUBLISHED-TTL:P3D
REFRESH-INTERVAL:P3D
CALSCALE:GREGORIAN
BEGIN:VEVENT
DTSTART:20161006T020000Z
DTEND:20161006T040000Z
X-MICROSOFT-CDO-ALLDAYEVENT:FALSE
SUMMARY:Patent 101 and Trademark Basics
DESCRIPTION:On Wednesday\, October 5th from 6:00 - 8:00 PM\, Director of the West Coast Regional USPTO\, John Cabeca and Attorney Advisor for Trademark Educational Outreach\, Jason Lott will be in Fairbanks to speak to the community. Topics of discussion will relate to patents\, trademarks\, copyrights\, trade secrets and why innovators and entrepreneurs should consider protecting their IP and resources available from the USPTO. Parking on campus after 5PM if free of charge. The event will be broadcast via the OWL project at the North Pole and Noel Wein Public library. The lecture will also be recorded and available upon request. For more information please contact Melissa McCumby at 474-2605 or email uaf-oipc@alaska.edu. These events are co-sponsored by the Alaska Patent & Trademark Resource Center (APTRC) and the Office of Intellectual Property and Commercialization (OIPC) at the University of Alaska Fairbanks.
X-ALT-DESC;FMTTYPE=text/html:On Wednesday\, October 5th from 6:00 - 8:00 PM\, Director of the West Coast Regional USPTO\, John Cabeca and Attorney Advisor for Trademark Educational Outreach\, Jason Lott will be in Fairbanks to speak to the community. Topics of discussion will relate to patents\, trademarks\, copyrights\, trade secrets and why innovators and entrepreneurs should consider protecting their IP and resources available from the USPTO. Parking on campus after 5PM if free of charge. The event will be broadcast via the OWL project at the North Pole and Noel Wein Public library. The lecture will also be recorded and available upon request. For more information please contact Melissa McCumby at 474-2605 or email uaf-oipc@alaska.edu. These events are co-sponsored by the Alaska Patent &amp\; Trademark Resource Center (APTRC) and the Office of Intellectual Property and Commercialization (OIPC) at the University of Alaska Fairbanks.
LOCATION:Murie Auditorium\, UAF Margaret Murie Building\, 982 Koyukuk Drive\, Fairbanks\, AK
UID:e.106.17282
SEQUENCE:3
DTSTAMP:20260422T054438Z
URL:https://www.fairbankschamber.org/events/details/patent-101-and-trademark-basics-17282
END:VEVENT

END:VCALENDAR
