BEGIN:VCALENDAR
VERSION:2.0
PRODID:-//ChamberMaster//Event Calendar 2.0//EN
METHOD:PUBLISH
X-PUBLISHED-TTL:P3D
REFRESH-INTERVAL:P3D
CALSCALE:GREGORIAN
BEGIN:VEVENT
DTSTART:20161024T020000Z
DTEND:20161024T040000Z
X-MICROSOFT-CDO-ALLDAYEVENT:FALSE
SUMMARY:Our Voices Will Be Heard
DESCRIPTION:Tlingit and Dena'ina writer Vera Starbard wrote the story of a mother and daughter coming together in a fierce call for healing. Now Fairbanks Arts Association and Perseverance Theatre are bringing the play to Fairbanks\, just in time for the Alaska Federation of Natives Convention's 50th Anniversary. Each performance will be a partially staged reading based off the Perseverance Theatre World Premiere Production. Pay as you can donations at the door
X-ALT-DESC;FMTTYPE=text/html:Tlingit and Dena&rsquo\;ina writer Vera Starbard wrote the story of a mother and daughter coming together in a fierce call for healing. Now Fairbanks Arts Association and Perseverance Theatre are bringing the play to Fairbanks\, just in time for the Alaska Federation of Natives Convention&rsquo\;s 50th Anniversary. Each performance will be a partially staged reading based off the Perseverance Theatre World Premiere Production. Pay as you can donations at the door
LOCATION:Alaska Centennial Center for the Arts Theater\, Pioneer Park
UID:e.106.17334
SEQUENCE:3
DTSTAMP:20260422T055325Z
URL:https://www.fairbankschamber.org/events/details/our-voices-will-be-heard-10-23-2016-17334
END:VEVENT

END:VCALENDAR
