BEGIN:VCALENDAR
VERSION:2.0
PRODID:-//ChamberMaster//Event Calendar 2.0//EN
METHOD:PUBLISH
X-PUBLISHED-TTL:P3D
REFRESH-INTERVAL:P3D
CALSCALE:GREGORIAN
BEGIN:VEVENT
DTSTART:20170917T023000Z
DTEND:20170917T070000Z
X-MICROSOFT-CDO-ALLDAYEVENT:FALSE
SUMMARY:Opera Ball
DESCRIPTION:Third Annual Opera Ball - Gourmet dinner with wine\, excerpts from The Merry Widow by Franz Lehar and dancing to the music of the Opera Fairbanks Orchestra. Games and prizes Gala fund Raising Event for Opera Fairbanks
X-ALT-DESC;FMTTYPE=text/html:Third Annual Opera Ball - Gourmet dinner with wine\, excerpts from The Merry Widow by Franz Lehar and dancing to the music of the Opera Fairbanks Orchestra. Games and prizes Gala fund Raising Event for Opera Fairbanks
LOCATION:Raven Landing Center
UID:e.106.20089
SEQUENCE:3
DTSTAMP:20260421T130315Z
URL:https://www.fairbankschamber.org/events/details/opera-ball-20089
END:VEVENT

END:VCALENDAR
