BEGIN:VCALENDAR
VERSION:2.0
PRODID:-//ChamberMaster//Event Calendar 2.0//EN
METHOD:PUBLISH
X-PUBLISHED-TTL:P3D
REFRESH-INTERVAL:P3D
CALSCALE:GREGORIAN
BEGIN:VEVENT
DTSTART:20160911T030000Z
DTEND:20160911T180000Z
X-MICROSOFT-CDO-ALLDAYEVENT:FALSE
SUMMARY:One Homeless Night
DESCRIPTION:Participate and become part of the solution! Experience One Homeless Night by joining us as we sleep out. Form a team or come on your own\, and fundraise to keep kids safe and raise awareness about The Door\, the youth shelter...and experience a night to remember. WHAT: One Homeless Night - Sleep Out WHEN: September 10\, 2016 - 7pm-10am WHERE: 122 10th Ave.\, Fairbanks\, next to The Door Sleep Rough means: cardboard boxes & sleeping bags Activities: Structure competition   build the biggest\, quickest\, most creative\, most 'home-like\,' most duct-tape\, or most stable cardboard house. Competition judged by Design Alaska. Donate to sponsor a participant. Visit the One Homeless Night website to donate directly to a participant\, or write a check to Fairbanks Youth Advocates\, 132 10th Ave. Fairbanks\, AK 99701. Write OHN in the memo line & the name of person you are sponsoring.
X-ALT-DESC;FMTTYPE=text/html:Participate and become part of the solution! Experience One Homeless Night by joining us as we sleep out. Form a team or come on your own\, and fundraise to keep kids safe and raise awareness about The Door\, the youth shelter...and experience a night to remember. WHAT: One Homeless Night - Sleep Out WHEN: September 10\, 2016 - 7pm-10am WHERE: 122 10th Ave.\, Fairbanks\, next to The Door Sleep Rough means: cardboard boxes &amp\; sleeping bags Activities: Structure competition &mdash\; build the biggest\, quickest\, most creative\, most &lsquo\;home-like\,&rsquo\; most duct-tape\, or most stable cardboard house. Competition judged by Design Alaska. Donate to sponsor a participant. Visit the One Homeless Night website to donate directly to a participant\, or write a check to Fairbanks Youth Advocates\, 132 10th Ave. Fairbanks\, AK 99701. Write OHN in the memo line &amp\; the name of person you are sponsoring.
LOCATION:132 10th Ave\, Fairbanks Youth Advocates
UID:e.106.16746
SEQUENCE:3
DTSTAMP:20260422T071348Z
URL:https://www.fairbankschamber.org/events/details/one-homeless-night-16746
END:VEVENT

END:VCALENDAR
